BEGIN:VCALENDAR
VERSION:2.0
PRODID:-//Tukios.com/
BEGIN:VEVENT
UID:7490bbc3-1b39-488b-8240-a32db87d50e7@www.mottandhenning.com
DTSTAMP:20260425T204556Z
DTSTART:20260429T220000Z
DTEND:20260430T000000Z
SUMMARY:Visitation
DESCRIPTION:
URL:https://www.mottandhenning.com/obituaries/roberta-clark
LOCATION: 206 North Main Street  ATHENS IL 62613
GEO:39.9614981;-89.723736
END:VEVENT
END:VCALENDAR