BEGIN:VCALENDAR
VERSION:2.0
PRODID:-//Tukios.com/
BEGIN:VEVENT
UID:85d21213-4616-425f-aa38-9a7290acc941@www.mottandhenning.com
DTSTAMP:20260425T204556Z
DTSTART:20260430T150000Z
DTEND:20260430T160000Z
SUMMARY:Funeral Service
DESCRIPTION:
URL:https://www.mottandhenning.com/obituaries/roberta-clark
LOCATION:Athens Christian Church 1411 Illinois 29  Athens IL 62613
GEO:39.962254;-89.7035944
END:VEVENT
END:VCALENDAR