BEGIN:VCALENDAR
VERSION:2.0
PRODID:-//Tukios.com/
BEGIN:VEVENT
UID:9cef2f35-06a6-459a-ba7f-1f550f95f615@www.mottandhenning.com
DTSTAMP:20260425T204639Z
DTSTART:20260430T140000Z
DTEND:20260430T150000Z
SUMMARY:Visitation
DESCRIPTION:
URL:https://www.mottandhenning.com/obituaries/roberta-clark
LOCATION:Athens Christian Church 1411 Illinois 29  Athens IL 62613
GEO:39.962254;-89.7035944
END:VEVENT
END:VCALENDAR