BEGIN:VCALENDAR
VERSION:2.0
PRODID:-//Tukios.com/
BEGIN:VEVENT
UID:e23234cf-dfdc-4252-a53f-1d2a20ea24ee@www.mottandhenning.com
DTSTAMP:20260425T204512Z
DTSTART:20260430
SUMMARY:Burial
DESCRIPTION:
URL:https://www.mottandhenning.com/obituaries/roberta-clark
LOCATION: 1441 Monument Ave.  Springfield IL 62702
GEO:39.8200371;-89.6543807
END:VEVENT
END:VCALENDAR